BEGIN:VCALENDAR
VERSION:2.0
CALSCALE:GREGORIAN
PRODID:-//MyApp//Calendar 1.0//EN
BEGIN:VEVENT
METHOD:PUBLISH
UID:62221@regionalniportaly.cz
DTSTAMP:20260422T030517Z
DTSTART;VALUE=DATE:20260711
DTEND;VALUE=DATE:20260712
SUMMARY:Na hradě s Petrem Štěpánkem
DESCRIPTION:Přijďte na setkání s ikonou českého herectví\,&nbsp\;Petrem Štěpánkem. V moderované talkshow nahlédneme do života umělce\, který si získal srdce diváků jako&nbsp\;kuchtík Jiřík&nbsp\;v pohádce&nbsp\;Zlatovláska&nbsp\;a ztvárnil nespočet rolí v divadle (Národní divadlo) i televizi (Ordinace v růžové zahradě). Rozhovor nabídne upřímné historky ze zákulisí\, vzpomínky na slavný herecký rod a dětství a detaily ze soukromého života. Těšte se na večer plný humoru a nadhledu\, typického pro Petra Štěpánka.&nbsp\;Akce bude probíhat na&nbsp\;nádvoří hradu
LOCATION:Petrovice
END:VEVENT
END:VCALENDAR