BEGIN:VCALENDAR
VERSION:2.0
CALSCALE:GREGORIAN
PRODID:-//MyApp//Calendar 1.0//EN
BEGIN:VEVENT
METHOD:PUBLISH
UID:61684@regionalniportaly.cz
DTSTAMP:20260422T060256Z
DTSTART;VALUE=DATE:20260207
DTEND;VALUE=DATE:20260208
SUMMARY:Cowboys' Convention Night
DESCRIPTION:Slavnostní předávání cen k ukončení sezóny Proton Therapy Prorodeo Tour 2025!&nbsp\;Společenská akce pořádaná sportovní rodeovou asociací PRCzA - především to je náš slavnostní galavečer&nbsp\;Cowboys'&nbsp\;Convention 2025. Oceněni budou ti nejlepší z uplynulé sezóny Prorodeo Tour 2025&nbsp\;- Prorodeo i Národní šampioni\, rekordmani sezóny\, ale také celý organizační tým včetně Calf Angels\, moderátorů\, časoměřiče či rozhodčí.K poslechu i k tanci zahraje kapela Hrajem?. Součástí plesové zábavy je i klasická tombola.V rámci slavnostního galavečera bude možné si jako vždy objednat slavnostní menu .Výběr pro letošní rok:Hovězí guláš\, knedlík 235\,- KčPřírodní kuřecí kapsa (šunka\, sýr)\, opečené brambory 245\,- KčSalát César s kuřecím masem 235\,-KčZ menu si můžete libovolně vybrat\, výběr je však nutné nahlásit na e-mail nyklova@prorodeo.cz\, a to nejpozději do 31. ledna. Cena pokrmů bude ke splacení u vstupu (s výjimkou těch\, co zakoupili vstupenku s večeří)\, proto si\, prosím\, připravte hotovost.Těšíme se na všechny známé ale i nové tváře\, protože srdečně&nbsp\;zvána je na tento tradičně netradiční ples i široká veřejnost. Uvidíme se již 7. února v Kulturním středisku Plasy.Bude to boží.Váš Prorodeo Team
LOCATION:Plasy
END:VEVENT
END:VCALENDAR