BEGIN:VCALENDAR
VERSION:2.0
CALSCALE:GREGORIAN
PRODID:-//MyApp//Calendar 1.0//EN
BEGIN:VEVENT
METHOD:PUBLISH
UID:61458@regionalniportaly.cz
DTSTAMP:20260422T055546Z
DTSTART;VALUE=DATE:20260410
DTEND;VALUE=DATE:20260411
SUMMARY:Kristián Šebek a Slawinski Band
DESCRIPTION:Kristán ŠebekMůj vzor\, božský Karel&nbsp\;Kristián Šebek (26)&nbsp\;se svým hudebním projektem “Můj vzor\, Božský Karel”\,&nbsp\;věnovaným jeho největšímu pěveckému vzoru\, dvakrát vyprodal pražskou Lucernu a jeho koncerty napříč republikou jsou již druhým rokem beznadějně vyprodané. Nyní se na něj můžete těšit v&nbsp\;Kulturním domě\, v Kralovicích&nbsp\;- kde tentokrát vystoupí za doprovodu čtveřice skvělých muzikantů s názvem Slawinski Band!&nbsp\;Diváky čeká vše\, na co jsou na jeho koncertech zvyklí. V tomto komornějším osobitějším podání však zazní nejen ty nejslavnější melodie jeho pěveckého vzoru&nbsp\;Karla Gotta\, jako například&nbsp\;Stokrát chválím čas\, Jdi za štěstím&nbsp\;nebo&nbsp\;Lady Karneval\, ale také dalších českých i zahraničních velikánů:&nbsp\;Waldemara Matušky\, Franka Sinatry\, Jiřího Korna či Elvise Presleyho. Chybět nebudou ani známé filmové melodie\, všechny dokonale zaranžovány pro jeho kapelu ve složení klávesy\, elektrická a akustická kytara\, basa a bicí souprava.
LOCATION:Kralovice
END:VEVENT
END:VCALENDAR