BEGIN:VCALENDAR
VERSION:2.0
CALSCALE:GREGORIAN
PRODID:-//MyApp//Calendar 1.0//EN
BEGIN:VEVENT
METHOD:PUBLISH
UID:61153@regionalniportaly.cz
DTSTAMP:20260422T062213Z
DTSTART;VALUE=DATE:20260418
DTEND;VALUE=DATE:20260419
SUMMARY:Doga a Morčata na útěku – turné 2026
DESCRIPTION:"Turné\, ze kterýho se poserete..." nese název série společných koncertů\, které spolu na jaře 2026 odjedou po ČR rockové stálice české scény\, kapely DOGA a Morčata na útěku.18.4. se zastaví v Kralovicích v Kulturním domě.
LOCATION:Kralovice
END:VEVENT
END:VCALENDAR