BEGIN:VCALENDAR
VERSION:2.0
CALSCALE:GREGORIAN
PRODID:-//MyApp//Calendar 1.0//EN
BEGIN:VEVENT
METHOD:PUBLISH
UID:61152@regionalniportaly.cz
DTSTAMP:20260422T025046Z
DTSTART;VALUE=DATE:20260327
DTEND;VALUE=DATE:20260328
SUMMARY:Doga a Morčata na útěku – turné 2026
DESCRIPTION:"Turné\, ze kterýho se poserete..." nese název série společných koncertů\, které spolu na jaře 2026 odjedou po ČR rockové stálice české scény\, kapely DOGA a Morčata na útěku.27.3. se zastaví v Cítolibech\, v Dělnickém domě.
LOCATION:Cítoliby
END:VEVENT
END:VCALENDAR