BEGIN:VCALENDAR
VERSION:2.0
CALSCALE:GREGORIAN
PRODID:-//MyApp//Calendar 1.0//EN
BEGIN:VEVENT
METHOD:PUBLISH
UID:59515@regionalniportaly.cz
DTSTAMP:20260422T024804Z
DTSTART;VALUE=DATE:20260324
DTEND;VALUE=DATE:20260325
SUMMARY:Hudba Ennia Morriconeho při svíčkách
DESCRIPTION:Koncert filmové hudby Ennia Morriconeho při svíčkách v Žatci!Těšte se na neopakovatelnou atmosféru koncertní síně naplněné očekáváním\, kde vás zvuky smyčcových nástrojů provedou emocemi Morriconeho mistrovských děl. V tomto podání kvartetu zažijete napětí\, melancholii\, ale i radost\, jak je zachytil Morricone ve svých nejslavnějších filmových skladbách z legendárních snímků jako Tenkrát na Západě\, Hodný\, zlý a ošklivý\, Osm hrozných\, Neúplatní\, Profesionál&nbsp\;a mnoho dalších..Tento koncert nabídne víc než jen hudbu. Sál ozáří stovky svíček\, které vytvoří magickou atmosféru a dokonale doplní Morriconeho nadčasové skladby. Spojení hudby a světla zajistí nezapomenutelný večer plný emocí.Akce je přístupná od 12 let. Každý účastník musí předložit platnou vstupenku&nbsp\; zakoupenou výhradně v síti smsticket.
LOCATION:Žatec
END:VEVENT
END:VCALENDAR