BEGIN:VCALENDAR
VERSION:2.0
CALSCALE:GREGORIAN
PRODID:-//MyApp//Calendar 1.0//EN
BEGIN:VEVENT
METHOD:PUBLISH
UID:59294@regionalniportaly.cz
DTSTAMP:20260422T084411Z
DTSTART;VALUE=DATE:20251114
DTEND;VALUE=DATE:20251115
SUMMARY:G1NTER
DESCRIPTION:Výherce The Mag WRAP 25\, G1NTER dorazí se svojí show do Žatce!Připrav se na rappový diktát\, který jsi v Žatci ještě neviděl/a.Místní rappovou scénu obhájí Sudža se svým novým albem Mladej Delgado!Afterparty rozjede DJ Podhoubee.&nbsp\;Jediná G1NTEROVO show v Ústeckém kraji v roce 25 se uskuteční v klubu Down Town\, tak si to nenech ujít! Bude&nbsp\;to TOP&nbsp\;party\, no Cap!&nbsp\;Vzhledem k velikosti klubu je počet vstupů omezený!Vstup 15+ (Na vstupu probíhá kontrola OP)
LOCATION:Žatec
END:VEVENT
END:VCALENDAR