BEGIN:VCALENDAR
VERSION:2.0
CALSCALE:GREGORIAN
PRODID:-//MyApp//Calendar 1.0//EN
BEGIN:VEVENT
METHOD:PUBLISH
UID:59218@regionalniportaly.cz
DTSTAMP:20260422T024854Z
DTSTART;VALUE=DATE:20260217
DTEND;VALUE=DATE:20260218
SUMMARY:Divadelní revue: Tak to jsme ještě neviděli\, Marie
DESCRIPTION:Připravte se na jedinečný zážitek\, který vás naprosto pohltí! Vstupte do světa herců\, kde každý okamžik je plný překvapení a emocí. Projdete s námi konkurzem na divadelní roli\, natáčením seriálu\, zpěvem\, tancem a improvizací na vaše vlastní návrhy. Ukážeme vám\, jak vzniká reklama\, jak probíhá talkshow a co všechno obnáší stát se hercem. A to vše s námi! Nechte se vtáhnout do našich hereckých i životních eskapád\, protože "smích zahřeje\, smích léčí". Nenechte si ujít tuto šanci zažít něco skutečně výjimečného!&nbsp\;Předprodej vstupenek KD Kralovice\, TIC Kralovice nebo on-line&nbsp\;https://www.smsticket.cz/poradatel/akce/62242/promo
LOCATION:Kralovice
END:VEVENT
END:VCALENDAR