BEGIN:VCALENDAR
VERSION:2.0
CALSCALE:GREGORIAN
PRODID:-//MyApp//Calendar 1.0//EN
BEGIN:VEVENT
METHOD:PUBLISH
UID:58755@regionalniportaly.cz
DTSTAMP:20260422T043317Z
DTSTART;VALUE=DATE:20260113
DTEND;VALUE=DATE:20260114
SUMMARY:Marie Rottrová - Galakoncert Lady Soul
DESCRIPTION:První dáma českého soulu\, ostravská rodačka\, skvělá zpěvačka\, pianistka\, skladatelka připravila skvělé Galakoncerty.Můžete se těšit na takové hudební klenoty z jejího repertoáru jako jsou například Lásko voníš deštěm\, Ten vůz už jel\, Skořápky ořechů\, Markétka\, Zřejmě letos nikde nejsou kytky\, S tím bláznem si nic nezačínej...
LOCATION:Kralovice
END:VEVENT
END:VCALENDAR