BEGIN:VCALENDAR
VERSION:2.0
CALSCALE:GREGORIAN
PRODID:-//MyApp//Calendar 1.0//EN
BEGIN:VEVENT
METHOD:PUBLISH
UID:58014@regionalniportaly.cz
DTSTAMP:20260422T042204Z
DTSTART;VALUE=DATE:20251103
DTEND;VALUE=DATE:20251104
SUMMARY:Pavlína Senić & Heidi Janků
DESCRIPTION:Koncert sopranistky Pavlíny Senič a jejího hosta Heidi Janků. Předprodej vstupenek KD Kralovice\, TiC Kralovice nebo online.&nbsp\;Cena 590\,- / 490\,-Kč.&nbsp\;
LOCATION:Kralovice
END:VEVENT
END:VCALENDAR