BEGIN:VCALENDAR
VERSION:2.0
CALSCALE:GREGORIAN
PRODID:-//MyApp//Calendar 1.0//EN
BEGIN:VEVENT
METHOD:PUBLISH
UID:57938@regionalniportaly.cz
DTSTAMP:20260422T060812Z
DTSTART;VALUE=DATE:20251114
DTEND;VALUE=DATE:20251115
SUMMARY:Totální nasazení - Akustické turné 2025
DESCRIPTION:
LOCATION:Rakovník
END:VEVENT
END:VCALENDAR