BEGIN:VCALENDAR
VERSION:2.0
CALSCALE:GREGORIAN
PRODID:-//MyApp//Calendar 1.0//EN
BEGIN:VEVENT
METHOD:PUBLISH
UID:56724@regionalniportaly.cz
DTSTAMP:20260422T084137Z
DTSTART;VALUE=DATE:20250822
DTEND;VALUE=DATE:20250823
SUMMARY:Luděk Minka: Krylovky & autorské písně
DESCRIPTION:Koncert Luděk Minka: Krylovky&nbsp\;&amp\; autorské písně proběhne v pátek 22. srpna 2025 od 20:00 h v krásném prostředí nedostavěného gotického chrámu Panny Marie v Panenském Týnci.&nbsp\;Luděk Minka\, zpěvák\,&nbsp\;skladatel a textař\, uznávaný interpret písní Karla Kryla\,&nbsp\;svým koncertem vyjádří poctu výjimečnému&nbsp\;písičkáři Karlu Krylovi\, jednomu z nejvýraznějčích hlasů českého odporu proti nesvobodě. Během koncertu zazní nejen slavné a nadčasové Krylovy skladby\, ale i autorské písně Luďka Minky\, které volně navazují na ducha svobody.&nbsp\;Večer bude i symbolickou připomínkou odporu proti srpnovým uda1968\, kdy byla pošlapána svoboda\, ale nevymizela naděje. Hudba tohoto večera je vyjádřením morálního vítěžství a oslavou lidské odvahy.&nbsp\;
LOCATION:Panenský Týnec
END:VEVENT
END:VCALENDAR