BEGIN:VCALENDAR
VERSION:2.0
CALSCALE:GREGORIAN
PRODID:-//MyApp//Calendar 1.0//EN
BEGIN:VEVENT
METHOD:PUBLISH
UID:56577@regionalniportaly.cz
DTSTAMP:20260422T030527Z
DTSTART;VALUE=DATE:20260724
DTEND;VALUE=DATE:20260725
SUMMARY:Beatles Revival + Karel Kahovec
DESCRIPTION:Jedinečný tříhodinový koncert v pátek 24.7.2026 od 20:00 &nbsp\;Stromovka v Lounech&nbsp\;.&nbsp\;Legendární Karel Kahovec vystoupí společně s jednou s nejlepších světových Beatles Revival kapel - The Beatles Revival&nbsp\;Narozeninový koncert legendárního Karla Kahovce 2026!&nbsp\;NEČÍSLOVANÉ SEZENÍ A STÁNÍZveme vás na výjimečný hudební večer\, kde své životní jubileum oslaví nezaměnitelný&nbsp\;Karel Kahovec&nbsp\;– ikona českého bigbítu a jeden z nejvýraznějších hlasů své generace.Na jednom pódiu se představí společně se skupinou&nbsp\;The Beatles Revival\, která koncert obohatí o nesmrtelné hity slavných „Brouků“.Můžete se těšit na největší Kahovcovy písně\, mezi nimi například:Háj ModřínůPaní v černémSvou lásku jsem rozdalPoprava blond holkyA samozřejmě nebudou chybět legendární skladby&nbsp\;The Beatles\, které dodají večeru jedinečnou atmosféru.Součástí koncertu bude také&nbsp\;vzpomínka na Petra Nováka\, jednoho z největších hlasů české hudby. Připomeneme si jeho nezapomenutelné hity:PovídejHvězdičko blýskaváJá budu chodit po špičkáchNáhrobní kámenPřijďte zažít večer plný emocí\, velkých hitů a pocty třem hudebním legendám.Tahle narozeninová oslava bude stát za to!&nbsp\;V případě eventuálního úmrtí Karla Kahovce (např. předávkování Viagrou) se koncert koná jako vzpomínka na Karla.
LOCATION:Louny
END:VEVENT
END:VCALENDAR