BEGIN:VCALENDAR
VERSION:2.0
CALSCALE:GREGORIAN
PRODID:-//MyApp//Calendar 1.0//EN
BEGIN:VEVENT
METHOD:PUBLISH
UID:55197@regionalniportaly.cz
DTSTAMP:20260422T084659Z
DTSTART;VALUE=DATE:20250920
DTEND;VALUE=DATE:20250921
SUMMARY:Květy na Červeňáku
DESCRIPTION:Kdo zažil uhrančivou atmosféru koncertů na naší rozhledně\, v podstatě neřeší\, která kapela tam zrovna hraje. Ale tady byste mohli zpozornět. Brno je zdrojem mnoha úkazů\, Květy jsou jedním z těch pozitivních.&nbsp\;Na kopci zažijete magický večer s jednou z nejoriginálnějších kapel české alternativní scény!Květy rozehrají krajinu nad Louny do ticha letní noci – surově\, poeticky\, naplno.Kapacita omezená! Vstupné předprodej 220 - 250 Kč\,&nbsp\; na místě 290 Kč.&nbsp\;Program Kultura z vrchu s podporou města Louny.http://www.cervenak-rozhledna.cz&nbsp\;
LOCATION:Louny
END:VEVENT
END:VCALENDAR