BEGIN:VCALENDAR
VERSION:2.0
CALSCALE:GREGORIAN
PRODID:-//MyApp//Calendar 1.0//EN
BEGIN:VEVENT
METHOD:PUBLISH
UID:55193@regionalniportaly.cz
DTSTAMP:20260422T131559Z
DTSTART;VALUE=DATE:20250731
DTEND;VALUE=DATE:20250801
SUMMARY:Na hradě s Terezou Kostkovou
DESCRIPTION:Nenechte si ujít jedinečnou příležitost setkat se s Terezou Kostkovou v neopakovatelných kulisách historického hradu Krakovec. Večer plný smíchu\, zajímavých historek a příjemné atmosféry je zaručen!Po skončení pořadu bude následovat autogramiáda.
LOCATION:Petrovice
END:VEVENT
END:VCALENDAR