BEGIN:VCALENDAR
VERSION:2.0
CALSCALE:GREGORIAN
PRODID:-//MyApp//Calendar 1.0//EN
BEGIN:VEVENT
METHOD:PUBLISH
UID:55130@regionalniportaly.cz
DTSTAMP:20260422T061353Z
DTSTART;VALUE=DATE:20251013
DTEND;VALUE=DATE:20251014
SUMMARY:Psychohrátky
DESCRIPTION:"Psychohrátky"&nbsp\;jsou populárně naučná&nbsp\;zábavná show&nbsp\;o duševním zdraví s prvky stand-upu a besedy. Tato unikátní show přináší důležité informace o duševním zdraví prostřednictvím zábavy a interakce. Můžete se těšit na vtipné scénky\, interaktivní cvičení a živou diskuzi.V pořadu vystupují:&nbsp\;Eva Holubová\, Karolína Holubová\, Matěj Paprčiak a psycholog Jiří Valášek.Každé představení&nbsp\;Psychohrátek&nbsp\;je jedinečné. Jedná se o show s prvky stand-upu a besedy\, která se zaměřuje na určité téma\, avšak samotný průběh je také zčásti utvářen přímo diváky\, kteří jsou srdečně zváni k položení otázek a aktivnímu zapojení do diskuze. Během besedy jsou vtipnými scénkami předváděny modelové situace\, které jsou následně vysvětleny odborníkem na psychologii. Tento přístup umožňuje divákům lépe porozumět danému tématu a sdílet své otázky a zkušenosti s účinkujícími. Při Psychohrátkách je klíčové vytvořit příjemné a bezpečné prostředí\, kde se diváci cítí pohodlně a mohou klást jak intimní\, tak anonymní otázky. Zároveň se nejedná jen o pouhý přenos informací\, ale i o zábavu\, humor a odlehčení tématu.
LOCATION:Kralovice
END:VEVENT
END:VCALENDAR