BEGIN:VCALENDAR
VERSION:2.0
CALSCALE:GREGORIAN
PRODID:-//MyApp//Calendar 1.0//EN
BEGIN:VEVENT
METHOD:PUBLISH
UID:54599@regionalniportaly.cz
DTSTAMP:20260422T071951Z
DTSTART;VALUE=DATE:20251021
DTEND;VALUE=DATE:20251022
SUMMARY:Hudba Bridgerton při svíčkách
DESCRIPTION:Nenechte si ujít večer plný romantiky a elegance\, kde zazní ty nejznámější melodie a písně z oblíbeného seriálu Bridgerton. Světlo stovky svíček vytvoří okouzlující atmosféru koncertu.Program v jedinečném provedení smyčcového kvarteta představí výběr hudebních skladeb z tohoto populárního seriálu\, inspirovaných klasickými díly i moderními popovými melodiemi\, které si získaly srdce diváků po celém světě.Tento koncert nabídne víc než jen hudbu\; stovky svíček rozzáří prostor a vytvoří atmosféru plnou noblesy\, romantiky a neodolatelného kouzla historické doby.Akce je přístupná od 12 let. Každý účastník musí předložit platnou vstupenku&nbsp\; zakoupenou výhradně v síti SMS ticket.
LOCATION:Žatec
END:VEVENT
END:VCALENDAR