BEGIN:VCALENDAR
VERSION:2.0
CALSCALE:GREGORIAN
PRODID:-//MyApp//Calendar 1.0//EN
BEGIN:VEVENT
METHOD:PUBLISH
UID:54418@regionalniportaly.cz
DTSTAMP:20260422T061123Z
DTSTART;VALUE=DATE:20251015
DTEND;VALUE=DATE:20251016
SUMMARY:Tigran Hovakimyan - Tigran je ve městě - Louny
DESCRIPTION:Tigran Hovakimyan pochází z Arménie a mluví plynule čtyřmi jazyky. Vyzkoušel mnoho zaměstnání\, ale nakonec začal pracovat jako amatérský herec v divadle pro děti. Díky tomu získal mnoho zkušeností s tím\, jak a na co reaguje publikum. Divadlu také vděčí za posun k sólové stand-up comedy\, které je mu blíž\, protože se na pódiu spoléhá jen sám na sebe.V roce 2025/2026 vyráží na velkou TOUR po celé ČR se svým speciálem. Čeká vás nezapomenutelný stand-up večer plný humoru\, energie a skvělých vtipů!Tigranův&nbsp\;předskokan&nbsp\;bude vždy nějaký český stand-up komik.&nbsp\;
LOCATION:Louny
END:VEVENT
END:VCALENDAR