BEGIN:VCALENDAR
VERSION:2.0
CALSCALE:GREGORIAN
PRODID:-//MyApp//Calendar 1.0//EN
BEGIN:VEVENT
METHOD:PUBLISH
UID:53786@regionalniportaly.cz
DTSTAMP:20260422T042122Z
DTSTART;VALUE=DATE:20251019
DTEND;VALUE=DATE:20251020
SUMMARY:Karol a Kvído
DESCRIPTION:PIRÁTSKÝ POKLADDalší nezapomenutelný zážitek oblíbené dětské dvojice Karol a Kvido. Ta se vydává na cestu za záhadným pokladem různými dopravními prostředky\, díky kterým se dostane až do vesmíru. Tam se setká s novým kamarádem Marťánkem\, který jim poradí\, kde poklad hledat.Zvládnou Karol a Kvído najít poklad? Podaří se jim přelstít piráta? To vše zjistíte v našem novém příběhu. Během představení zazní oblíbené hity i nové písničky Mořský svět\, Pirátská písnička nebo Hrajeme fér.
LOCATION:Kralovice
END:VEVENT
END:VCALENDAR