BEGIN:VCALENDAR
VERSION:2.0
CALSCALE:GREGORIAN
PRODID:-//MyApp//Calendar 1.0//EN
BEGIN:VEVENT
METHOD:PUBLISH
UID:53758@regionalniportaly.cz
DTSTAMP:20260422T043642Z
DTSTART;VALUE=DATE:20250927
DTEND;VALUE=DATE:20250928
SUMMARY:KRAUSBERRY
DESCRIPTION:Koncert bluesrockové legendy pražské klubové scény rozezní sál KD Kralovice.&nbsp\;&nbsp\;Přijďte se přesvědčit\, že kapela založená kolem zpěváka a textaře Martina Krause před 40 lety má dodnes posluchačům co nabídnout.&nbsp\;Nebudou chybět hity jako Do nebe\, Můstek\, Vlakem na Kolín\, Horoskop a spoustu dalších. Po vystoupení kapely Krausberry rockový večer nekončí - pokračuje kapelou&nbsp\;Medvěd 009\, kde je členem kralovický rodák Ruda&nbsp\;Rigo.
LOCATION:Kralovice
END:VEVENT
END:VCALENDAR