BEGIN:VCALENDAR
VERSION:2.0
CALSCALE:GREGORIAN
PRODID:-//MyApp//Calendar 1.0//EN
BEGIN:VEVENT
METHOD:PUBLISH
UID:53443@regionalniportaly.cz
DTSTAMP:20260422T090001Z
DTSTART;VALUE=DATE:20250916
DTEND;VALUE=DATE:20250917
SUMMARY:Koncert filmové hudby
DESCRIPTION:Symfonický orchestr Dalibora Havlíčka uvede v Rakovníku svůj úspěšný Koncert filmové hudby. Toto mladé hudební těleso pro vás vybralo rozmanitý program plný známých filmových melodií.\nZazní například melodie z filmu Rocky\, populárního seriálu Hra o trůny\, či špionážní filmové série Mission Impossible. Uslyšíte ale i slavnou melodii Ennia Morriconeho z filmu Tenkrát na Západě a soundtracky dobrodružných filmů Indiana Jones\, Sedm statečných\, Poslední Mohykán a Vinnetou.\nNebudou chybět ani melodie z filmů Pearl Harbor nebo Piráti z Karibiku\, jejichž autorem je jeden z nejvyhledávanějších skladatelů současnosti\, Hans Zimmer. Malé diváky zase jistě potěší melodie z filmové série o Harrym Potterovi nebo animované série Madagascar.\nNa své si přijdou také milovníci prvního a patrně i nejznámějšího českého filmového muzikálu z roku 1964 Starci na chmelu. 
LOCATION:Rakovník
END:VEVENT
END:VCALENDAR