BEGIN:VCALENDAR
VERSION:2.0
CALSCALE:GREGORIAN
PRODID:-//MyApp//Calendar 1.0//EN
BEGIN:VEVENT
METHOD:PUBLISH
UID:53280@regionalniportaly.cz
DTSTAMP:20260422T072935Z
DTSTART;VALUE=DATE:20250802
DTEND;VALUE=DATE:20250803
SUMMARY:Rockovej Královák XIII.
DESCRIPTION:Na letní scéně zámku v Králově Dvoře se v sobotu 2. srpna 2025&nbsp\;uskuteční další ročník rockového festivalu Rockovej Královák. Letošní\, už třináctý&nbsp\;ročník\, přinese pořádný nářez rockové muziky. Stejně jako v uplynulých letech na něm vystoupí kapela Black Hill a Destroy!&nbsp\;&nbsp\;Dále se představí kapely Hentai Corporation\, Dysangelium a V.P.O.ho.
LOCATION:Králův Dvůr
END:VEVENT
END:VCALENDAR