BEGIN:VCALENDAR
VERSION:2.0
CALSCALE:GREGORIAN
PRODID:-//MyApp//Calendar 1.0//EN
BEGIN:VEVENT
METHOD:PUBLISH
UID:52823@regionalniportaly.cz
DTSTAMP:20260424T120202Z
DTSTART;VALUE=DATE:20250405
DTEND;VALUE=DATE:20250406
SUMMARY:Retrovlakem do pivovaru Chyše
DESCRIPTION:Zveme Vás na výlet zvláštním vlakem z Prahy přes Beroun a Křivoklát do vesničky Chyše v Karlovarském kraji.\nNavštivte Panství Chyše zahrnující zámek\, pivovar a restauraci s rodinnou atmosférou starého sídla. Zámecký pivovar byl znovu otevřen v roce 2006\, kdy byla po 74 letech obnovena výroba kvalitního přírodního nepasterizovaného piva.\nČeká Vás prohlídka pivovaru s výkladem a degustace piva přímo z ležáckých tanků. Navštívíme také místní restauraci s domácí kuchyní. Vydejte se retrovlakem do Chyše!\nNávrh jízdního řádu:Praha hl. n. 7:50 – Praha-Smíchov 8:01 – Beroun 8:52 – Rakovník 10:07 – Chyše 11:26\nChyše 15:13 – Rakovník 16:25 – Beroun 17:43 – Praha-Smíchov 18:34 – Praha hl. n. 18:44
LOCATION:Rakovník
END:VEVENT
END:VCALENDAR