BEGIN:VCALENDAR
VERSION:2.0
CALSCALE:GREGORIAN
PRODID:-//MyApp//Calendar 1.0//EN
BEGIN:VEVENT
METHOD:PUBLISH
UID:52260@regionalniportaly.cz
DTSTAMP:20260422T043609Z
DTSTART;VALUE=DATE:20251111
DTEND;VALUE=DATE:20251112
SUMMARY:Zdeněk Izer - Vyndavací zas tam dací
DESCRIPTION:Těžký útok na vaši bránici! Do Postoloprt se&nbsp\;chystá jeden z našich nejpopulárnějších bavičů Zdeněk Izer. Jeho nová show "Vyndavací zas tam dací" je opět plná zábavných scének\, parodií\, skvělých vtipů a imitování celé řady populárních českých i zahraničních zpěváků a zpěvaček. Vystoupení je navíc obohacené videoprojekcemi\, zábavnými kostýmy\, převleky a světelnými efekty.
LOCATION:Postoloprty
END:VEVENT
END:VCALENDAR