BEGIN:VCALENDAR
VERSION:2.0
CALSCALE:GREGORIAN
PRODID:-//MyApp//Calendar 1.0//EN
BEGIN:VEVENT
METHOD:PUBLISH
UID:52004@regionalniportaly.cz
DTSTAMP:20260422T085241Z
DTSTART;VALUE=DATE:20250912
DTEND;VALUE=DATE:20250913
SUMMARY:Sváteční recitál - Marie Tilšarová  v Panenském Týnci
DESCRIPTION:PROSÍM POZOR:-) VŠECHNA MÍSTA NA SEZENÍ JSOU JIŽ VYPRODANÉ. PROSTORU JE ALE STÁLE DOST\, PŘIVEZTE SI SVOU STOLIČKU/DEKU :-) děkuji za pochopení. MarieSváteční recitál - již tradiční akce v magickém Panenském Týnci\, kam písničkářka Marie Tilšarová se svou kapelou a hosty přináší nezapomenutelný zážitek. Hostem bude tentokrát Ctirad Macháně - handpan.Akce se koná za jakéhokoliv počasí:-)&nbsp\;&nbsp\;
LOCATION:Panenský Týnec
END:VEVENT
END:VCALENDAR