BEGIN:VCALENDAR
VERSION:2.0
CALSCALE:GREGORIAN
PRODID:-//MyApp//Calendar 1.0//EN
BEGIN:VEVENT
METHOD:PUBLISH
UID:51590@regionalniportaly.cz
DTSTAMP:20260422T073044Z
DTSTART;VALUE=DATE:20250530
DTEND;VALUE=DATE:20250531
SUMMARY:Vandráci na ostrově lidojedů
DESCRIPTION:Tři kamarádi\, Vandráci Pavel Liška\, Honza Révai a Hynek Bernard\, vyrážejí na svých motorkách vstříc druhému největšímu ostrovu světa\, na divokou Papuu Novou Guineu.&nbsp\;Jednomu z nejméně prozkoumaných míst světa\, kde donedávna platily některé domorodé kmeny za obávané kanibaly. Cestou za dobrodružstvím je doprovází…
LOCATION:Kralovice
END:VEVENT
END:VCALENDAR