BEGIN:VCALENDAR
VERSION:2.0
CALSCALE:GREGORIAN
PRODID:-//MyApp//Calendar 1.0//EN
BEGIN:VEVENT
METHOD:PUBLISH
UID:51352@regionalniportaly.cz
DTSTAMP:20260424T120811Z
DTSTART;VALUE=DATE:20250321
DTEND;VALUE=DATE:20250322
SUMMARY:Vtípečky v Rakovníku // Standup show
DESCRIPTION:
LOCATION:Rakovník
END:VEVENT
END:VCALENDAR