BEGIN:VCALENDAR
VERSION:2.0
CALSCALE:GREGORIAN
PRODID:-//MyApp//Calendar 1.0//EN
BEGIN:VEVENT
METHOD:PUBLISH
UID:50780@regionalniportaly.cz
DTSTAMP:20260424T115253Z
DTSTART;VALUE=DATE:20250401
DTEND;VALUE=DATE:20250402
SUMMARY:Jméno v Rakovníku
DESCRIPTION:Mluvit se dá o všem. Mezi dobrými přáteli a příbuznými by vlastně žádné téma nemělo být tabu.Když se ale úspěšný realitní makléř Vincent na večeři u své sestry Elizabeth\, učitelky francouzštiny\, a švagra Pierra\, profesora literatury\, svěří se záměrem dát svému synovi kontroverzní jméno\, zdá se\, že hranice civilizované konverzace byla překročena. Středostavovské předsudky jsou podle všeho přece jen větší\, než se přítomní liberálové domnívali.Ke skutečné eskalaci dojde po odhalení nálože\, která se skrývá v rodinné historii.hrají:JAN DOLANSKÝLINDA RYBOVÁROMAN ZACHJANA JANĚKOVÁ m.PETR LNĚNIČKA
LOCATION:Rakovník
END:VEVENT
END:VCALENDAR