BEGIN:VCALENDAR
VERSION:2.0
CALSCALE:GREGORIAN
PRODID:-//MyApp//Calendar 1.0//EN
BEGIN:VEVENT
METHOD:PUBLISH
UID:50675@regionalniportaly.cz
DTSTAMP:20260422T114611Z
DTSTART;VALUE=DATE:20250301
DTEND;VALUE=DATE:20250302
SUMMARY:KÁBÁT REVIVAL WEST
DESCRIPTION:V současnosti je Kabát revival West nejvyhledávanějším revivalem kapely Kabát.Předprodej vstupenek v Měks Kralovice TiC Kralovice&nbsp\; a online SMSticket za 250\,- na místě 300\,-Kč.
LOCATION:Kralovice
END:VEVENT
END:VCALENDAR