BEGIN:VCALENDAR
VERSION:2.0
CALSCALE:GREGORIAN
PRODID:-//MyApp//Calendar 1.0//EN
BEGIN:VEVENT
METHOD:PUBLISH
UID:50644@regionalniportaly.cz
DTSTAMP:20260422T114817Z
DTSTART;VALUE=DATE:20250801
DTEND;VALUE=DATE:20250802
SUMMARY:Lucie Bílá v Žatci
DESCRIPTION:Nejpopulárnější česká zpěvačka odehraje&nbsp\;velký koncert pod širým nebem v Žatci!Mnohonásobná držitelka Zlatého slavíka\, nejoblíbenější zpěvačka na poli české populární hudby Lucie Bílá vystoupí za klavírního doprovodu Petra Maláska\, Těšit se můžete na jedinečný hudební zážitek v podání toho nejlepšího hlasu české hudební scény.🎫 Pozor!&nbsp\;Vstupenky nyní v akční ceně!
LOCATION:Žatec
END:VEVENT
END:VCALENDAR