BEGIN:VCALENDAR
VERSION:2.0
CALSCALE:GREGORIAN
PRODID:-//MyApp//Calendar 1.0//EN
BEGIN:VEVENT
METHOD:PUBLISH
UID:49949@regionalniportaly.cz
DTSTAMP:20260422T060832Z
DTSTART;VALUE=DATE:20250531
DTEND;VALUE=DATE:20250601
SUMMARY:Vystoupení v rámci oslav obce
DESCRIPTION:Oslavy obce a SDH Dobříč
LOCATION:Dobříč
END:VEVENT
END:VCALENDAR