BEGIN:VCALENDAR
VERSION:2.0
CALSCALE:GREGORIAN
PRODID:-//MyApp//Calendar 1.0//EN
BEGIN:VEVENT
METHOD:PUBLISH
UID:49484@regionalniportaly.cz
DTSTAMP:20260422T114601Z
DTSTART;VALUE=DATE:20250207
DTEND;VALUE=DATE:20250208
SUMMARY:Calin Kralovice
DESCRIPTION:Calin\, vlastním jménem Calin Panfili\, je zpěvák a rapper z Brna\, původem z Moldávie. Svou hudbu vydává pod sublabelem Mike Roft records\, Rychlí kluci\, který sdružuje producent a zvukař D.Kop.Calin se hudbě věnuje od dětství a skladby začal nahrávat již na střední škole\, kde se seznámil s Davidem Kopeckým\, známým jako D.Kop. Jeho první single dostal název&nbsp\;Víc už nic&nbsp\;a vyšel v roce 2016 pod nově vzniklým labelem Mike Roft records jako jedna z prvních skladeb. Později vyšlo několik singlů\, například&nbsp\;Blíž&nbsp\;nebo&nbsp\;Paradise\, na kterém se objevil rapper&nbsp\;Renne Dang.VŽánry:&nbsp\;R&amp\;B\,&nbsp\;RapVSTUPENKYvstupenka za 650 Kč - standard ke stání - I. vlna&nbsp\;vstupenka&nbsp\;za 1190 Kč - VIP&nbsp\;vstupenka --přednostní vstup do klubu o hodinu dříve&nbsp\;welcome drink- VIP zóna ve druhém patře s vlastním barem a balkonem pro dokonalý výhled - I. vlnainfo na měkskralovice@seznam.cz nebo 603 311113
LOCATION:Kralovice
END:VEVENT
END:VCALENDAR