BEGIN:VCALENDAR
VERSION:2.0
CALSCALE:GREGORIAN
PRODID:-//MyApp//Calendar 1.0//EN
BEGIN:VEVENT
METHOD:PUBLISH
UID:49183@regionalniportaly.cz
DTSTAMP:20260422T102341Z
DTSTART;VALUE=DATE:20241214
DTEND;VALUE=DATE:20241215
SUMMARY:Adventní koncert s Mikolášem Růžičkou a Andreou Růžičkovou
DESCRIPTION:Adventní koncert a posezení s Mikolášem Růžičkou a Andreou Kerestešovou Růžičkovou&nbsp\;V rámci svátečního programu se můžete těšit na&nbsp\;výstavu fotografií Andrey Kerestešové Růžičkové\, které jsou vyvolané technikou platinotypie. Andrea vytvořila citlivou sérii fotografií\, které nahlížejí do duše.V 16:00 laskavé&nbsp\;povídání Heleny Neumannové a jejích hostů&nbsp\;s Andrejkou\, Mikolášem a Láďou Henkem ze zákulisí Rádia Svobodné Universum o dnešní době\, o duši\, o Adventu\, radosti i šílenosti naší doby.V 18:00 proběhne&nbsp\;klavírní&nbsp\;koncert&nbsp\;Mikoláše Růžičky\, který zahraje vlastní klavírní ambientní skladby z alb Doma I. a Doma II.\, nabízející meditaci\, ponoření se do sebe\, zastavení a pohlazení na duši.Tým Levandulového údolí připravil nádhernou adventní stezku po vápencových mořích\, v Tančírně a manufaktuře k připomenutí tradic\, zvyků a svátků z českého kalendáře.A dílny s art terapií můžete v Levandulovém údolí absolvovat celý advent.
LOCATION:Chodouň
END:VEVENT
END:VCALENDAR