BEGIN:VCALENDAR
VERSION:2.0
CALSCALE:GREGORIAN
PRODID:-//MyApp//Calendar 1.0//EN
BEGIN:VEVENT
METHOD:PUBLISH
UID:48913@regionalniportaly.cz
DTSTAMP:20260422T114643Z
DTSTART;VALUE=DATE:20250304
DTEND;VALUE=DATE:20250305
SUMMARY:Veselé Velikonoce v Žatci
DESCRIPTION:Nenapravitelný rošťák\, profesionál i zvíře chystá bezva fintu.Řekne-li se kultovní francouzská komedie\, nemůže ve výčtu chybět titul Veselé velikonoce. Slavná divadelní hra\, která získala svou proslulost i díky filmovému zpracování\, ve kterém exceluje Jean-Paul Belmondo.Věčný příběh nenapravitelného zmatkáře Stéphana\, který se odhodlá tajně podvést svou manželku Sophii. Ta ho jednou přistihne ve společnosti půvabné dívky a Stéphane ji bez váhání představí jako svou dceru. V té chvíli začne zamotávání se do vlastních lží\, skrývání a nečekaných překvapení.Veselé Velikonoce jsou skvostnou situační komedií\, která vychází z nejlepších tradic slapstickových komedií a grotesky.Jedná se o českou divadelní premiéru.&nbsp\;Hrají:Stéphane: Martin HofmannSophie: Michaela BadinkováJulie: Eliška Hanušová / Anna Jiřina DaňhelováMarlene: Monika ZoubkováFabienne: Jelena JuklováWalter: Jiří WohankaFréderic: Filip Cíl / Tomáš Kůgel
LOCATION:Žatec
END:VEVENT
END:VCALENDAR