BEGIN:VCALENDAR
VERSION:2.0
CALSCALE:GREGORIAN
PRODID:-//MyApp//Calendar 1.0//EN
BEGIN:VEVENT
METHOD:PUBLISH
UID:48492@regionalniportaly.cz
DTSTAMP:20260422T103808Z
DTSTART;VALUE=DATE:20241225
DTEND;VALUE=DATE:20241226
SUMMARY:Petr Vondráček a Lokomotiva
DESCRIPTION:Tradiční vánoční mejdan s kapelou Lokomotiva v Loděnici u Berouna.
LOCATION:Loděnice
END:VEVENT
END:VCALENDAR