BEGIN:VCALENDAR
VERSION:2.0
CALSCALE:GREGORIAN
PRODID:-//MyApp//Calendar 1.0//EN
BEGIN:VEVENT
METHOD:PUBLISH
UID:48191@regionalniportaly.cz
DTSTAMP:20260422T103439Z
DTSTART;VALUE=DATE:20241124
DTEND;VALUE=DATE:20241125
SUMMARY:Laskavá neděle s Jiřím Strachem a Martinou Kociánovou
DESCRIPTION:Zveme vás do Levandulového údolí na jedinečnou sérii setkání “Laskavé neděle”\, která se koná jednou měsíčně ve spolupráci s Martinou Kociánovou z Rádio Universum. 24. listopadu se na “Laskavé neděli” setkáte&nbsp\;s hostem Jiřím Strachem.&nbsp\;Téma:&nbsp\;Advent v laskavém duchu aneb\, Anděl páně v dnešním světě&nbsp\;Celý den můžete užívat klimaterapie v našem resortu\, aromaterapii v útulném Aroma domku nebo relaxovat v křesle naší restaurace. Užijte si čajové degustace\, rituály\, klidné procházky\, art terapii v našich ateliérech\, a vychutnejte si lahodný oběd nebo snídani připravenou z čerstvých surovin z lokálních farem a našich zahrad a polí.&nbsp\;Laskavé otázky bude klást Martina Kociánová ze Svobodného Universa i vy\, milí návštěvníci.
LOCATION:Chodouň
END:VEVENT
END:VCALENDAR