BEGIN:VCALENDAR
VERSION:2.0
CALSCALE:GREGORIAN
PRODID:-//MyApp//Calendar 1.0//EN
BEGIN:VEVENT
METHOD:PUBLISH
UID:48063@regionalniportaly.cz
DTSTAMP:20260422T155704Z
DTSTART;VALUE=DATE:20250124
DTEND;VALUE=DATE:20250125
SUMMARY:Rozptýlení / Barcarole v Lounech
DESCRIPTION:ROZPTÝLENÍ / BARCAROLEPračka důchodkyně Isabely vytopí drogově závislou sousedku. Je třeba zavolat opraváře. Hodinový manžel přichází do bytu\, který ovšem nepůsobí jako domov opuštěné seniorky\, ale jako klinika vyšinutých jedinců… Soused Isabely není schopen splnit poslední přání své zesnulé manželky\, vytopená feťačka nenávidí důchodce\, uprchlíky a vládu\, Isabelle se zjevuje uražený manžel\, který je roky po smrti a komplikuje jí život i opravu pračky…&nbsp\;Během této bizarní návštěvy padne iluze jednoho šťastného manželství\, vyjasní se jedno staré nedorozumění a několik dalších nastane.Komedie&nbsp\;Rozptýlení&nbsp\;je o lidech\, kteří mají starosti a potřebovali by rozptýlit.&nbsp\;​Druhá polovina představení je projekce krátkého filmu&nbsp\;Barcarole\, který je rovněž dílem Divadla Verze. Autorem scénáře a režisérem je Igor Chmela. Film byl uveden na festivalu v Karlových Varech a byl nominován na Českého Lva. Film tématicky úzce souvisí s divadelním představením a vystupují v něm\, kromě jiných\, stejní herci\, kteří hrají v Rozptýlení. Chceme tak divákům nabídnout v jeden večer dva zážitky\, divadelní a filmový. Spojení těchto dvou uměleckých odvětví považujeme v rámci naší produkce za unikátní divadlo\, které divákům přinese i film.​Zatímco ve filmu jde o spíše nostalgičtější a tragikomické pojetí\, na divadle nás to více táhlo k žánru komedie\, umožnilo nám větší&nbsp\;míru komediálního nadhledu a my si tak mohli pořádně zařádit. Věříme\, že tak\, jak jsme se při zkoušení smáli my\, budou se smát i diváci divadelní hry Rozptýlení.Rozptýlení hrají: Lenka Vlasáková\, Jan Dolanský\, Igor Chmela\, Ladislav Hampl\, Vlasta PeterkováBarcarole hrají: Lenka Vlasáková\, Danisa Barešová\, Jan Kačer\, David Prachař\, Ladislav Hampl\,&nbsp\;Rostislav Novák st.\, Jan Dolanský\, Matouš Ruml\, Miluše Hradská&nbsp\;&nbsp\;​
LOCATION:Louny
END:VEVENT
END:VCALENDAR