BEGIN:VCALENDAR
VERSION:2.0
CALSCALE:GREGORIAN
PRODID:-//MyApp//Calendar 1.0//EN
BEGIN:VEVENT
METHOD:PUBLISH
UID:47261@regionalniportaly.cz
DTSTAMP:20260422T102400Z
DTSTART;VALUE=DATE:20241123
DTEND;VALUE=DATE:20241124
SUMMARY:Vánoční koncert Janek Ledecký
DESCRIPTION:Vánoční koncert v Loděnici\, Janek Ledecký s kapelou +&nbsp\;host Nostitz&nbsp\;Quartet
LOCATION:Loděnice
END:VEVENT
END:VCALENDAR