BEGIN:VCALENDAR
VERSION:2.0
CALSCALE:GREGORIAN
PRODID:-//MyApp//Calendar 1.0//EN
BEGIN:VEVENT
METHOD:PUBLISH
UID:46911@regionalniportaly.cz
DTSTAMP:20260422T102435Z
DTSTART;VALUE=DATE:20241123
DTEND;VALUE=DATE:20241124
SUMMARY:Cowboys Convention 2024
DESCRIPTION:Slavnostní předávání cen k ukončení sezóny&nbsp\;Prorodeo Tour 2024!&nbsp\;Společenská akce pořádaná sportovní rodeovou asociací PRCzA - především to je náš slavnostní galavečer&nbsp\;Cowboy's Convention 2024. Oceněni budou ti nejlepší z uplynulé sezóny Prorodeo Tour 2024&nbsp\;- Prorodeo i Národní šampioni\, rekordmani sezóny\, ale také celý organizační tým včetně Calf Angels\, moderátorů\, časoměřiče či rozhodčí.Večerem Vás provedou&nbsp\;Lenka Harantová Štarmanová\,&nbsp\;Jiří Žižka&nbsp\;a&nbsp\;Pavel Laštovka. Těšit se můžete na oblíbenou kapelu&nbsp\;1/2 Rebel&nbsp\;a skoro půlnoční překvapení.Těšíme se na všechny známé ale i nové tváře\, protože srdečně&nbsp\;zvána je na tento tradičně netradiční ples i široká veřejnost. Uvidíme se již 23. listopadu v Kulturním středisku Plasy.Bude to boží. ​Váš Prorodeo Team
LOCATION:Plasy
END:VEVENT
END:VCALENDAR