BEGIN:VCALENDAR
VERSION:2.0
CALSCALE:GREGORIAN
PRODID:-//MyApp//Calendar 1.0//EN
BEGIN:VEVENT
METHOD:PUBLISH
UID:46626@regionalniportaly.cz
DTSTAMP:20260422T054641Z
DTSTART;VALUE=DATE:20241019
DTEND;VALUE=DATE:20241020
SUMMARY:Brutus
DESCRIPTION:Brutus&nbsp\;je česká rocková&nbsp\;a taneční skupina\, která pro svůj styl razí termín&nbsp\;pravý bigbít. Skupina je považována za legendu českého tancovačkového bigbítu.
LOCATION:Kralovice
END:VEVENT
END:VCALENDAR