BEGIN:VCALENDAR
VERSION:2.0
CALSCALE:GREGORIAN
PRODID:-//MyApp//Calendar 1.0//EN
BEGIN:VEVENT
METHOD:PUBLISH
UID:46272@regionalniportaly.cz
DTSTAMP:20260422T115546Z
DTSTART;VALUE=DATE:20250219
DTEND;VALUE=DATE:20250220
SUMMARY:Zkurvení havlisti v Lounech
DESCRIPTION:Výtečná komedie ze sauny a současnosti.Kde jinde\, že? Kde jinde než v&nbsp\;sauně odhodit těžkosti světa a oddychnout si. A relaxovat. Ale jde to? Je to možné? Dnešní svět je tak složitý\, tak rychlý\, a tak nevyzpytatelný\, že na něho nemůžete přestat myslet nikde. Zvlášť když se jmenujete Hubert\, Bořek a Vladan\, kterým stav světa leží na srdci moc. A rozčiluje je. S&nbsp\;přibývající teplotou v&nbsp\;sauně\, řeší čím dál těžší otázky a čím dál víc se vztekají\, protože objevují další a další pasti. Naštěstí tihle tři chlapíci rozumí opravdu všemu\, a tak cestu ven najdou. Dokonce i ze sauny domů.Jestli vám není osud světa lhostejný\, přijďte si jejich názory poslechnout a probrat starosti našich dnů. Vaše mysl se určitě rozjasní.Hrají: Miroslav Hanuš\, Tomáš Měcháček\, Karel Zima
LOCATION:Louny
END:VEVENT
END:VCALENDAR