BEGIN:VCALENDAR
VERSION:2.0
CALSCALE:GREGORIAN
PRODID:-//MyApp//Calendar 1.0//EN
BEGIN:VEVENT
METHOD:PUBLISH
UID:45584@regionalniportaly.cz
DTSTAMP:20260422T043854Z
DTSTART;VALUE=DATE:20241012
DTEND;VALUE=DATE:20241013
SUMMARY:Totální nasazení\, Deratizéři a Dilemma in Cinema v Rakovníku
DESCRIPTION:Totální nasazení\, Deratizéři a Dilemma in Cinema opět v Rakovníku!
LOCATION:Rakovník
END:VEVENT
END:VCALENDAR