BEGIN:VCALENDAR
VERSION:2.0
CALSCALE:GREGORIAN
PRODID:-//MyApp//Calendar 1.0//EN
BEGIN:VEVENT
METHOD:PUBLISH
UID:45483@regionalniportaly.cz
DTSTAMP:20260422T114540Z
DTSTART;VALUE=DATE:20240907
DTEND;VALUE=DATE:20240908
SUMMARY:Dočesná BUS
DESCRIPTION:Připravili jsme si pro Vás autobusovou přepravu na 67. slavnosti chmele Dočesná v Žatci.&nbsp\;Letošní ročník&nbsp\;Žatecké Dočesné nabídne účast více než 50 pivovarů a bohatý kulturní program. Letos poprvé pod patronátem UNESCO.&nbsp\;Autobus odjíždí v 10:00 ze stanice Hradčanská (Terminál metro A - odjezdové stání autobusů PID v ulici Milady Horákové). Očekávaný příjezd do Žatce je 11:20. Odjezd do Prahy je plánován ve 22:30 z náměstí Prokopa Malého (před minipivovarem U Orloje). Příjezd do stanice Praha-Hradčanská je plánován ve 23:50.&nbsp\;Autobus je vybaven klimatizací a WC.&nbsp\;Cena zpáteční jízdenky je 349\,-. Jednocestné jízdenky v prodeji nebudou. Jízdenku je možné pořídit pouze v předprodeji.&nbsp\;&nbsp\;Jízdní řád Dočesná BUSu:10:00 Praha\, Hradčanská (M)&nbsp\;11:20*&nbsp\;Žatec\, nám. Prokopa Malého&nbsp\;22:30 Žatec\, nám. Prokopa Malého23:50* Praha\, Hradčanská (M)*uvedené časy příjezdů se mohou lišit v závisloti na aktuální dopravní situaci.&nbsp\;Autobus organizuje Pivo Falkon. Pro více informací nás kontaktujte na e-mailu ahoj@atmospot.cz.&nbsp\;
LOCATION:Žatec
END:VEVENT
END:VCALENDAR