BEGIN:VCALENDAR
VERSION:2.0
CALSCALE:GREGORIAN
PRODID:-//MyApp//Calendar 1.0//EN
BEGIN:VEVENT
METHOD:PUBLISH
UID:44655@regionalniportaly.cz
DTSTAMP:20260422T060715Z
DTSTART;VALUE=DATE:20240928
DTEND;VALUE=DATE:20240929
SUMMARY:Vzpomínky
DESCRIPTION:Český zpěvák Daniel Danko se po svých dlouhých muzikální cestách svetem vrací do svého rodného kraje a přináší se svou francouzskou skupinou "East Voice" svým posluchačům vzpomínky na překrásné časy našich českých a světových zpěváků a jejich nezapomenutelných hitů. Zpěvák Daniel Dankovsky ( Danko )Původem z Ústí nad Labem&nbsp\;studoval už za mladí zpěv u známého Pianisty\, aranžéra\, jazzmana a bývalého hudebního redaktora ústeckého rozhlasu Pavla Stolby.V dalších létech účinkoval Daniel D. Jako zpěvák po celé Evropě\, ve Španělsku\, na Cote d' Azur a v USA.V podání Daniela Dankovského se posluchač navrátí do dob překrásných melodií a vzpominek na krásné časy.Už proto nazval zpěvák své letošní Turné&nbsp\;"Vzpomínky na krásné časy ".Jeho nová skladba "Čas lásky " bude pro české posluchače vycházet už na podzim&nbsp\;tohoto roku.S&nbsp\;vokální skupinou "East&nbsp\;Voice" se můžou&nbsp\;posluchači těšit na nové podání této Česko-německo francouzské skupiny a zpěváka Daniela Danka.Daniel Danko: "Mé&nbsp\;Vzpomínky na nezapomenutelného Karla Gotta\, Karla Černocha\, Jiřího Schelingera\, Pavla Nováka a dalších zpěváků mě doprovází až do dnes\, protože jsem snimi prožil svá nejkrásnější hudební léta".&nbsp\;&nbsp\;
LOCATION:Žatec
END:VEVENT
END:VCALENDAR