BEGIN:VCALENDAR
VERSION:2.0
CALSCALE:GREGORIAN
PRODID:-//MyApp//Calendar 1.0//EN
BEGIN:VEVENT
METHOD:PUBLISH
UID:42468@regionalniportaly.cz
DTSTAMP:20260422T073054Z
DTSTART;VALUE=DATE:20240726
DTEND;VALUE=DATE:20240728
SUMMARY:2.Celostátní setkání Hradišť
DESCRIPTION:Akce určená pro širokou veřejnost.&nbsp\;Program:pátek 26.7.&nbsp\;&nbsp\; &nbsp\; &nbsp\;19\,00&nbsp\; &nbsp\; &nbsp\;StrawHat (country)&nbsp\; &nbsp\; &nbsp\; &nbsp\; &nbsp\; &nbsp\; &nbsp\; &nbsp\; &nbsp\; &nbsp\; &nbsp\; &nbsp\; 21\,00&nbsp\; &nbsp\; E.F.S. (Folk - vítěz Porty 1985)sobota 27.7.&nbsp\; &nbsp\; 12\,30&nbsp\; &nbsp\; &nbsp\;Hradišťan a Jiří Pavlica&nbsp\; &nbsp\; &nbsp\; &nbsp\; &nbsp\; &nbsp\; &nbsp\; &nbsp\; &nbsp\; &nbsp\; &nbsp\; &nbsp\; &nbsp\;14\,30&nbsp\; &nbsp\; KB Akustic band (60tá léta akusticky)&nbsp\; &nbsp\; &nbsp\; &nbsp\; &nbsp\; &nbsp\; &nbsp\; &nbsp\; &nbsp\; &nbsp\; &nbsp\; &nbsp\; &nbsp\;17\,00&nbsp\; &nbsp\; &nbsp\;Brass band Rakovník (jazz a dixieland)&nbsp\; &nbsp\; &nbsp\; &nbsp\; &nbsp\; &nbsp\; &nbsp\; &nbsp\; &nbsp\; &nbsp\; &nbsp\; &nbsp\; &nbsp\;19\,30&nbsp\; &nbsp\; &nbsp\;Košík band (Rock 60tá léta)neděle 28.7.&nbsp\; &nbsp\; &nbsp\;11\,00&nbsp\; &nbsp\; Fámy (bluegrass)&nbsp\; &nbsp\; &nbsp\; &nbsp\; &nbsp\; &nbsp\; &nbsp\; &nbsp\; &nbsp\; &nbsp\; &nbsp\; &nbsp\; &nbsp\;13\,00&nbsp\; &nbsp\;Vocaď Pocaď (putování s písničkou)Bohaté občerstvení.V sobotu doprovodný program.
LOCATION:Dolní Hradiště
END:VEVENT
END:VCALENDAR