BEGIN:VCALENDAR
VERSION:2.0
CALSCALE:GREGORIAN
PRODID:-//MyApp//Calendar 1.0//EN
BEGIN:VEVENT
METHOD:PUBLISH
UID:38364@regionalniportaly.cz
DTSTAMP:20260422T041405Z
DTSTART;VALUE=DATE:20240217
DTEND;VALUE=DATE:20240218
SUMMARY:JAMARON / 10½ let tour / Rakovník
DESCRIPTION:
LOCATION:Rakovník
END:VEVENT
END:VCALENDAR