BEGIN:VCALENDAR
VERSION:2.0
CALSCALE:GREGORIAN
PRODID:-//MyApp//Calendar 1.0//EN
BEGIN:VEVENT
METHOD:PUBLISH
UID:38257@regionalniportaly.cz
DTSTAMP:20260422T054604Z
DTSTART;VALUE=DATE:20240203
DTEND;VALUE=DATE:20240204
SUMMARY:Zase ti tupitelé
DESCRIPTION:Jedná se o politickou satiru z prostřední nejmenovaného obecného zastupitelstva\, které&nbsp\;vám sehraje nově vzniklý amatérský divadelní soubor z Těrlicka.&nbsp\;
LOCATION:Dolní Hradiště
END:VEVENT
END:VCALENDAR