BEGIN:VCALENDAR
VERSION:2.0
CALSCALE:GREGORIAN
PRODID:-//MyApp//Calendar 1.0//EN
BEGIN:VEVENT
METHOD:PUBLISH
UID:38083@regionalniportaly.cz
DTSTAMP:20260422T024814Z
DTSTART;VALUE=DATE:20240309
DTEND;VALUE=DATE:20240310
SUMMARY:Cestovatelská Střela Zima 2024
DESCRIPTION:Zimní verze nového cestovatelského festivalu je tady! 4 skvělé přednášky a večer 2 kapely!Program:Pátek:18:00 Setkání cestovatelů (neveřejná akce)Sobota:09:00 Snídaně11:00 Ranní jóga14:00&nbsp\;4 cestovatelské přednášky - Bude oznámeno&nbsp\;20:00 kapela 1 - Bude oznámeno22:00 kapela 2 - Bude oznámenoNeděle:09:00 SnídaněVstupné:Celodenní vstupenka v předprodeji: 250 KčCelodenní vstupenka na místě: 400 KčVstupné na jednotlivou přednášku nebo koncert&nbsp\;na místě: 150 Kč&nbsp\;
LOCATION:Dolní Hradiště
END:VEVENT
END:VCALENDAR