BEGIN:VCALENDAR
VERSION:2.0
CALSCALE:GREGORIAN
PRODID:-//MyApp//Calendar 1.0//EN
BEGIN:VEVENT
METHOD:PUBLISH
UID:36148@regionalniportaly.cz
DTSTAMP:20260422T042224Z
DTSTART;VALUE=DATE:20231202
DTEND;VALUE=DATE:20231203
SUMMARY:Cowboys Convention 2023
DESCRIPTION:Slavnostní předávání cen k ukončení sezóny&nbsp\;Proton Therapy Center Prorodeo Tour 2023!&nbsp\;Společenská akce pořádaná sportovní asociací PRCzA - především to je náš slavnostní galavečer Cowboy's Convention 2023. Oceněni budou ti nejlepší z uplynulé sezóny Prorodeo Tour 2023 - Prorodeo i Národní šampioni\, rekordmani sezóny\, ale také celý organizační tým včetně Calf Angels\, moderátorů\, časoměřiče či rozhodčí.Večerem Vás provedou Lenka Harantová Štarmanová\, Jiří Žižka a Pavel Laštovka. Těšit se můžete na oblíbenou kapelu 1/2 Rebel a skoro půlnoční překvapení.Součástí bude samozřejmě také gastronomický&nbsp\;zážitek v podobě jídel připravených soukromým kuchařem Filipem Kuttou. O výběru a způsobu&nbsp\;objednání Vás budeme brzy informovat na našem Facebookovém profilu.&nbsp\;Těšíme se na všechny známé ale i nové tváře\, protože srdečně&nbsp\;zvána je na tento tradičně netradiční ples i široká veřejnost. Uvidíme se již 2. prosince v Kulturním středisku Plasy.Bude to boží. ​Váš Prorodeo Team
LOCATION:Plasy
END:VEVENT
END:VCALENDAR