BEGIN:VCALENDAR
VERSION:2.0
CALSCALE:GREGORIAN
PRODID:-//MyApp//Calendar 1.0//EN
BEGIN:VEVENT
METHOD:PUBLISH
UID:34673@regionalniportaly.cz
DTSTAMP:20260422T025036Z
DTSTART;VALUE=DATE:20230825
DTEND;VALUE=DATE:20230827
SUMMARY:Letní Cestovatelská Střela 2023
DESCRIPTION:3. ročník cestovatelského festivalu Cestovatelská Střela 2022 zná svůj datum!Do prodeje jde pouze 150 vstupenek\, nejlevnější za&nbsp\;400 korun pouze do 30.6.I na konci léta 2022 se budete moct těšit na největší hvězdy současné české cestovatelské scény\, skvělé kapely\, doprovodný program a mraky jídla a pití.Tak neváhejte a zajistěte si své místo již dnes.Program:/ bude oznámen /
LOCATION:Dolní Hradiště
END:VEVENT
END:VCALENDAR